View In:
ArcGIS JavaScript
ArcGIS Online Map Viewer
ArcGIS Earth
ArcMap
View Footprint In:
ArcGIS Online Map Viewer
Service Description: Original filename: naluma_nsw_2017_abcl0_c20250704_u12.tif.
This is version 12 of the Transitional NVR Map updated 4 July 2025.
The ‘abc’ is a raster showing where it is Sensitive or not (1 or 0).
Name: NVR/SensitiveRegulatedLand
Description: Original filename: naluma_nsw_2017_abcl0_c20250704_u12.tif.
This is version 12 of the Transitional NVR Map updated 4 July 2025.
The ‘abc’ is a raster showing where it is Sensitive or not (1 or 0).
Single Fused Map Cache: false
Extent:
XMin: 8714565
YMin: 4010655
XMax: 9964750
YMax: 5051470
Spatial Reference: 3308
(3308)
Initial Extent:
XMin: 8714565
YMin: 4010655
XMax: 9964750
YMax: 5051470
Spatial Reference: 3308
(3308)
Full Extent:
XMin: 8714565
YMin: 4010655
XMax: 9964750
YMax: 5051470
Spatial Reference: 3308
(3308)
Pixel Size X: 5.0
Pixel Size Y: 5.0
Band Count: 3
Pixel Type: U8
RasterFunction Infos: {"rasterFunctionInfos": [{
"name": "None",
"description": "",
"help": ""
}]}
Mensuration Capabilities: Basic
Has Histograms: false
Has Colormap: false
Has Multi Dimensions : false
Rendering Rule:
Min Scale: 0
Max Scale: 0
Copyright Text: This file was produced by the Legislative map team within the Remote Sensing and Regulatory mapping Branch of DEECCW using an automated process on Science Data Compute.
Service Data Type: esriImageServiceDataTypeThematic
Min Values: N/A
Max Values: N/A
Mean Values: N/A
Standard Deviation Values: N/A
Object ID Field:
Fields:
None
Default Mosaic Method: Center
Allowed Mosaic Methods:
SortField:
SortValue: null
Mosaic Operator: First
Default Compression Quality: 75
Default Resampling Method: Bilinear
Max Record Count: null
Max Image Height: 4100
Max Image Width: 15000
Max Download Image Count: null
Max Mosaic Image Count: null
Allow Raster Function: true
Allow Copy: null
Allow Analysis: null
Allow Compute TiePoints: false
Supports Statistics: false
Supports Advanced Queries: false
Use StandardizedQueries: true
Raster Type Infos:
Name: Raster Dataset
Description: Supports all ArcGIS Raster Datasets
Help:
Has Raster Attribute Table: false
Edit Fields Info: null
Ownership Based AccessControl For Rasters: null
Child Resources:
Info
Key Properties
Legend
Raster Function Infos
Supported Operations:
Export Image
Identify
Measure
Compute Histograms
Compute Statistics Histograms
Get Samples
Compute Class Statistics
Query Boundary
Compute Pixel Location
Validate
Project