{
 "currentVersion": 10.81,
 "serviceDescription": "Original filename: naluma_nsw_2017_abcl0_c20250704_u12.tif.\n\nThis is version 12 of the Transitional NVR Map updated 4 July 2025.\n\nThe \u2018abc\u2019 is a raster showing where it is Sensitive or not (1 or 0).",
 "name": "NVR/SensitiveRegulatedLand",
 "description": "Original filename: naluma_nsw_2017_abcl0_c20250704_u12.tif.\n\nThis is version 12 of the Transitional NVR Map updated 4 July 2025.\n\nThe \u2018abc\u2019 is a raster showing where it is Sensitive or not (1 or 0).",
 "extent": {
  "xmin": 8714565,
  "ymin": 4010655,
  "xmax": 9964750,
  "ymax": 5051470,
  "spatialReference": {
   "wkid": 3308,
   "latestWkid": 3308
  }
 },
 "initialExtent": {
  "xmin": 8714565,
  "ymin": 4010655,
  "xmax": 9964750,
  "ymax": 5051470,
  "spatialReference": {
   "wkid": 3308,
   "latestWkid": 3308
  }
 },
 "fullExtent": {
  "xmin": 8714565,
  "ymin": 4010655,
  "xmax": 9964750,
  "ymax": 5051470,
  "spatialReference": {
   "wkid": 3308,
   "latestWkid": 3308
  }
 },
 "pixelSizeX": 5,
 "pixelSizeY": 5,
 "bandCount": 3,
 "pixelType": "U8",
 "minPixelSize": 0,
 "maxPixelSize": 0,
 "copyrightText": "This file was produced by the Legislative map team within the Remote Sensing and Regulatory mapping Branch of DEECCW using an automated process on Science Data Compute.",
 "serviceDataType": "esriImageServiceDataTypeThematic",
 "minValues": [],
 "maxValues": [],
 "meanValues": [],
 "stdvValues": [],
 "objectIdField": "",
 "fields": [],
 "capabilities": "Image,Metadata,Mensuration",
 "defaultMosaicMethod": "Center",
 "allowedMosaicMethods": "",
 "sortField": "",
 "sortValue": null,
 "sortAscending": true,
 "mosaicOperator": "First",
 "defaultCompressionQuality": 75,
 "defaultResamplingMethod": "Bilinear",
 "maxImageHeight": 4100,
 "maxImageWidth": 15000,
 "allowRasterFunction": true,
 "rasterFunctionInfos": [
  {
   "name": "None",
   "description": "",
   "help": ""
  }
 ],
 "rasterTypeInfos": [
  {
   "name": "Raster Dataset",
   "description": "Supports all ArcGIS Raster Datasets",
   "help": ""
  }
 ],
 "mensurationCapabilities": "Basic",
 "hasHistograms": false,
 "hasColormap": false,
 "hasRasterAttributeTable": false,
 "minScale": 0,
 "maxScale": 0,
 "exportTilesAllowed": false,
 "hasMultidimensions": false,
 "supportsStatistics": false,
 "supportsAdvancedQueries": false,
 "editFieldsInfo": null,
 "ownershipBasedAccessControlForRasters": null,
 "allowComputeTiePoints": false,
 "useStandardizedQueries": true,
 "advancedQueryCapabilities": {
  "useStandardizedQueries": true,
  "supportsStatistics": false,
  "supportsOrderBy": false,
  "supportsDistinct": false,
  "supportsPagination": false
 },
 "spatialReference": {
  "wkid": 3308,
  "latestWkid": 3308
 }
}
